BEGIN:VCALENDAR
VERSION:2.0
PRODID:-//Bürgerverein Weingartsgasse - ECPv6.15.17.1//NONSGML v1.0//EN
CALSCALE:GREGORIAN
METHOD:PUBLISH
X-WR-CALNAME:Bürgerverein Weingartsgasse
X-ORIGINAL-URL:https://xn--brgerverein-weingartsgasse-yzc.de
X-WR-CALDESC:Veranstaltungen für Bürgerverein Weingartsgasse
REFRESH-INTERVAL;VALUE=DURATION:PT1H
X-Robots-Tag:noindex
X-PUBLISHED-TTL:PT1H
BEGIN:VTIMEZONE
TZID:Europe/Berlin
BEGIN:DAYLIGHT
TZOFFSETFROM:+0100
TZOFFSETTO:+0200
TZNAME:CEST
DTSTART:20240331T010000
END:DAYLIGHT
BEGIN:STANDARD
TZOFFSETFROM:+0200
TZOFFSETTO:+0100
TZNAME:CET
DTSTART:20241027T010000
END:STANDARD
BEGIN:DAYLIGHT
TZOFFSETFROM:+0100
TZOFFSETTO:+0200
TZNAME:CEST
DTSTART:20250330T010000
END:DAYLIGHT
BEGIN:STANDARD
TZOFFSETFROM:+0200
TZOFFSETTO:+0100
TZNAME:CET
DTSTART:20251026T010000
END:STANDARD
BEGIN:DAYLIGHT
TZOFFSETFROM:+0100
TZOFFSETTO:+0200
TZNAME:CEST
DTSTART:20260329T010000
END:DAYLIGHT
BEGIN:STANDARD
TZOFFSETFROM:+0200
TZOFFSETTO:+0100
TZNAME:CET
DTSTART:20261025T010000
END:STANDARD
END:VTIMEZONE
BEGIN:VEVENT
DTSTART;TZID=Europe/Berlin:20250823T140000
DTEND;TZID=Europe/Berlin:20250823T235900
DTSTAMP:20260420T144125
CREATED:20250222T131658Z
LAST-MODIFIED:20250527T171321Z
UID:455-1755957600-1755993540@xn--brgerverein-weingartsgasse-yzc.de
SUMMARY:Familienfest
DESCRIPTION:Das erfolgreiche Familienfest geht in die nächste Runde! Auf dem Bolzplatz „Am Brunnenweg“ wird auch dieses Jahr wieder ein Fest für Klein und Groß stattfinden.
URL:https://xn--brgerverein-weingartsgasse-yzc.de/event/familienfest/
END:VEVENT
END:VCALENDAR