BEGIN:VCALENDAR
VERSION:2.0
PRODID:-//Bürgerverein Weingartsgasse - ECPv6.15.17.1//NONSGML v1.0//EN
CALSCALE:GREGORIAN
METHOD:PUBLISH
X-WR-CALNAME:Bürgerverein Weingartsgasse
X-ORIGINAL-URL:https://xn--brgerverein-weingartsgasse-yzc.de
X-WR-CALDESC:Veranstaltungen für Bürgerverein Weingartsgasse
REFRESH-INTERVAL;VALUE=DURATION:PT1H
X-Robots-Tag:noindex
X-PUBLISHED-TTL:PT1H
BEGIN:VTIMEZONE
TZID:Europe/Berlin
BEGIN:DAYLIGHT
TZOFFSETFROM:+0100
TZOFFSETTO:+0200
TZNAME:CEST
DTSTART:20240331T010000
END:DAYLIGHT
BEGIN:STANDARD
TZOFFSETFROM:+0200
TZOFFSETTO:+0100
TZNAME:CET
DTSTART:20241027T010000
END:STANDARD
BEGIN:DAYLIGHT
TZOFFSETFROM:+0100
TZOFFSETTO:+0200
TZNAME:CEST
DTSTART:20250330T010000
END:DAYLIGHT
BEGIN:STANDARD
TZOFFSETFROM:+0200
TZOFFSETTO:+0100
TZNAME:CET
DTSTART:20251026T010000
END:STANDARD
BEGIN:DAYLIGHT
TZOFFSETFROM:+0100
TZOFFSETTO:+0200
TZNAME:CEST
DTSTART:20260329T010000
END:DAYLIGHT
BEGIN:STANDARD
TZOFFSETFROM:+0200
TZOFFSETTO:+0100
TZNAME:CET
DTSTART:20261025T010000
END:STANDARD
END:VTIMEZONE
BEGIN:VEVENT
DTSTART;TZID=Europe/Berlin:20250504T110000
DTEND;TZID=Europe/Berlin:20250504T170000
DTSTAMP:20260420T103443
CREATED:20250324T174506Z
LAST-MODIFIED:20250430T182735Z
UID:526-1746356400-1746378000@xn--brgerverein-weingartsgasse-yzc.de
SUMMARY:Frühlingsfest am Drei-Dörfer-Eck
DESCRIPTION:250421_DreiDörferBaum_Einladung_DINA5_V3
URL:https://xn--brgerverein-weingartsgasse-yzc.de/event/fruehlingsfest-am-drei-doerfer-eck/
ORGANIZER;CN="B%C3%BCrgerverein Weingartsgasse e.V.":MAILTO:admin@xn--brgerverein-weingartsgasse-yzc.de
END:VEVENT
BEGIN:VEVENT
DTSTART;TZID=Europe/Berlin:20250526T181500
DTEND;TZID=Europe/Berlin:20250526T191500
DTSTAMP:20260420T103443
CREATED:20250222T131658Z
LAST-MODIFIED:20250501T182440Z
UID:447-1748283300-1748286900@xn--brgerverein-weingartsgasse-yzc.de
SUMMARY:Messe am Siegkreuz
DESCRIPTION:Wir feiern die Hl. Messe am Siegkreuz.
URL:https://xn--brgerverein-weingartsgasse-yzc.de/event/messe-am-siegkreuz/
END:VEVENT
END:VCALENDAR