BEGIN:VCALENDAR
VERSION:2.0
PRODID:-//Bürgerverein Weingartsgasse - ECPv6.15.17.1//NONSGML v1.0//EN
CALSCALE:GREGORIAN
METHOD:PUBLISH
X-ORIGINAL-URL:https://xn--brgerverein-weingartsgasse-yzc.de
X-WR-CALDESC:Veranstaltungen für Bürgerverein Weingartsgasse
REFRESH-INTERVAL;VALUE=DURATION:PT1H
X-Robots-Tag:noindex
X-PUBLISHED-TTL:PT1H
BEGIN:VTIMEZONE
TZID:UTC
BEGIN:STANDARD
TZOFFSETFROM:+0000
TZOFFSETTO:+0000
TZNAME:UTC
DTSTART:20240101T000000
END:STANDARD
END:VTIMEZONE
BEGIN:VEVENT
DTSTART;TZID=UTC:20250312T200000
DTEND;TZID=UTC:20250312T220000
DTSTAMP:20260420T150221
CREATED:20250222T131658Z
LAST-MODIFIED:20250222T131658Z
UID:442-1741809600-1741816800@xn--brgerverein-weingartsgasse-yzc.de
SUMMARY:Jahreshauptversammlung
DESCRIPTION:
URL:https://xn--brgerverein-weingartsgasse-yzc.de/event/jahreshauptversammlung/
LOCATION:Gasthaus „Sieglinde“
END:VEVENT
END:VCALENDAR